BEGIN:VCALENDAR
VERSION:2.0
PRODID:-//Coterie Holistic Wellness - ECPv6.15.20//NONSGML v1.0//EN
CALSCALE:GREGORIAN
METHOD:PUBLISH
X-WR-CALNAME:Coterie Holistic Wellness
X-ORIGINAL-URL:https://coterieholisticwellness.co.uk
X-WR-CALDESC:Events for Coterie Holistic Wellness
REFRESH-INTERVAL;VALUE=DURATION:PT1H
X-Robots-Tag:noindex
X-PUBLISHED-TTL:PT1H
BEGIN:VTIMEZONE
TZID:UTC
BEGIN:STANDARD
TZOFFSETFROM:+0000
TZOFFSETTO:+0000
TZNAME:UTC
DTSTART:20240101T000000
END:STANDARD
END:VTIMEZONE
BEGIN:VEVENT
DTSTART;TZID=UTC:20251016T183000
DTEND;TZID=UTC:20251016T193000
DTSTAMP:20260423T121044
CREATED:20251006T143243Z
LAST-MODIFIED:20251006T143243Z
UID:4040-1760639400-1760643000@coterieholisticwellness.co.uk
SUMMARY:Vinyasa Yoga
DESCRIPTION:🌿 Welcome Vinyasa at Coterie Holistic Wellness\n🗓 Thursday 16th October | 6:30–7:30pm\n📍 Park End\, Morton Valence \nJoin me for a grounding and joyful Vinyasa practice to celebrate the opening of Coterie Holistic Wellness—a stunning new studio nestled right on the canal. This one-hour class is open to all levels\, with mats provided and plenty of space to move\, breathe\, and connect. \n✨ Expect flowing movement\, gentle breathwork\, and a chance to meet me and explore the beautiful studio that Coterie have so lovingly brought to life. After class\, we’ll chat about future sessions and how we can shape this offering together. \nNature meets wellness in this serene waterside setting—where reeds sway\, light dances\, and community begins. \n📩 Booking now open\nMessage me with any questions or to reserve your spot. \nhttps://www.thenookstudios.co.uk/event-details-registration/welcome-vinyasa-at-coterie-holistic-wellness-thursday-16th-october
URL:https://coterieholisticwellness.co.uk/event/vinyasa-yoga/
LOCATION:Coterie Holistic Wellness\, The Castle\, Castle Lane.\, Moreton Valence\, Glos\, GL2 7NE\, United Kingdom
ORGANIZER;CN="The Nook Yoga":MAILTO:info@yogaatthenook.com
END:VEVENT
END:VCALENDAR