BEGIN:VCALENDAR
VERSION:2.0
PRODID:-//Coterie Holistic Wellness - ECPv6.15.13.1//NONSGML v1.0//EN
CALSCALE:GREGORIAN
METHOD:PUBLISH
X-WR-CALNAME:Coterie Holistic Wellness
X-ORIGINAL-URL:https://coterieholisticwellness.co.uk
X-WR-CALDESC:Events for Coterie Holistic Wellness
REFRESH-INTERVAL;VALUE=DURATION:PT1H
X-Robots-Tag:noindex
X-PUBLISHED-TTL:PT1H
BEGIN:VTIMEZONE
TZID:UTC
BEGIN:STANDARD
TZOFFSETFROM:+0000
TZOFFSETTO:+0000
TZNAME:UTC
DTSTART:20240101T000000
END:STANDARD
END:VTIMEZONE
BEGIN:VEVENT
DTSTART;TZID=UTC:20251028T190000
DTEND;TZID=UTC:20251028T203000
DTSTAMP:20260421T072828
CREATED:20250919T172801Z
LAST-MODIFIED:20251010T130949Z
UID:3994-1761678000-1761683400@coterieholisticwellness.co.uk
SUMMARY:“Echoes of our Ancestors”
DESCRIPTION:“A sound bath to honour the thinning veil.” \nStep into the mystery of Halloween night with a transformative sound journey. 🌑✨ \nLet the resonance of the dark water gong\, shimmering chimes\, deep shamanic drum\, luminous crystal bowls\, grounding Tibetan bowls\, and earthy shakers guide you across the veil between worlds. \nTogether\, we’ll descend into shadow\, honour the presence of our ancestors\, and return renewed—bathed in light\, sound\, and stillness. \nYou don’t need to bring a thing\, your sanctuary awaits: \nMattress\, bedding\, pillows\, water and eye masks provided \nIf this event has sold out and you wish to be waitlisted or added to another event\, please email us at info@coterieholisticwellness.co.uk
URL:https://coterieholisticwellness.co.uk/event/echoes-of-our-ancestors/
LOCATION:Coterie Holistic Wellness\, The Castle\, Castle Lane.\, Moreton Valence\, Glos\, GL2 7NE\, United Kingdom
ORGANIZER;CN="coterieholisticwellness":MAILTO:info@coterieholisticwellness.co.uk
END:VEVENT
END:VCALENDAR