BEGIN:VCALENDAR
VERSION:2.0
PRODID:-//Coterie Holistic Wellness - ECPv6.15.13.1//NONSGML v1.0//EN
CALSCALE:GREGORIAN
METHOD:PUBLISH
X-WR-CALNAME:Coterie Holistic Wellness
X-ORIGINAL-URL:https://coterieholisticwellness.co.uk
X-WR-CALDESC:Events for Coterie Holistic Wellness
REFRESH-INTERVAL;VALUE=DURATION:PT1H
X-Robots-Tag:noindex
X-PUBLISHED-TTL:PT1H
BEGIN:VTIMEZONE
TZID:UTC
BEGIN:STANDARD
TZOFFSETFROM:+0000
TZOFFSETTO:+0000
TZNAME:UTC
DTSTART:20240101T000000
END:STANDARD
END:VTIMEZONE
BEGIN:VEVENT
DTSTART;TZID=UTC:20251128T183000
DTEND;TZID=UTC:20251128T193000
DTSTAMP:20260421T072828
CREATED:20251023T133708Z
LAST-MODIFIED:20251023T133708Z
UID:4123-1764354600-1764358200@coterieholisticwellness.co.uk
SUMMARY:Echoes of the Earth Sound bath
DESCRIPTION:Echoes of the Earth is an immersive sound journey where ancient vibrations awaken new awareness.” \n“Experience the earth’s echo within you\, a sound bath of grounding frequencies and celestial overtones designed to uplift and transform.” \n📍 Location: The Nook Yoga Studio Dale House Bredon Rd\, Tewkesbury GL20 5BX \n\nFriday 28th November 2025 – 6:30pm – 7:30pm \n£18 per person \n🎶 Bring: a yoga mat\, blanket\, and an open heart. \n\nSpaces are limited—reserve your spot and let the earth’s echoes carry you home.
URL:https://coterieholisticwellness.co.uk/event/echoes-of-the-earth-sound-bath/
LOCATION:The Nook Yoga Studio\, Dale House\, Bredon Road\,\, Tewkesbury\, Gloucestershire\, GL20 5BX\, United Kingdom
ORGANIZER;CN="Coterie Holistic Wellness":MAILTO:info@coterieholisticwellness.co.uk
END:VEVENT
END:VCALENDAR