BEGIN:VCALENDAR
VERSION:2.0
PRODID:-//Coterie Holistic Wellness - ECPv6.15.13.1//NONSGML v1.0//EN
CALSCALE:GREGORIAN
METHOD:PUBLISH
X-ORIGINAL-URL:https://coterieholisticwellness.co.uk
X-WR-CALDESC:Events for Coterie Holistic Wellness
REFRESH-INTERVAL;VALUE=DURATION:PT1H
X-Robots-Tag:noindex
X-PUBLISHED-TTL:PT1H
BEGIN:VTIMEZONE
TZID:UTC
BEGIN:STANDARD
TZOFFSETFROM:+0000
TZOFFSETTO:+0000
TZNAME:UTC
DTSTART:20250101T000000
END:STANDARD
END:VTIMEZONE
BEGIN:VEVENT
DTSTART;TZID=UTC:20260106T190000
DTEND;TZID=UTC:20260106T200000
DTSTAMP:20260421T020045
CREATED:20251206T133442Z
LAST-MODIFIED:20260106T143459Z
UID:4421-1767726000-1767729600@coterieholisticwellness.co.uk
SUMMARY:Chakra Realignment Sound Bath
DESCRIPTION:A restorative chakra-focused experience designed to clear energetic blockages\, elevate your frequency\, and bring your entire system back into harmony. A deep energetic tune-up to balance\, cleanse\, and activate your chakra system.
URL:https://coterieholisticwellness.co.uk/event/chakra-realignment-sound-bath/
LOCATION:Coterie Holistic Wellness\, The Castle\, Castle Lane.\, Moreton Valence\, Glos\, GL2 7NE\, United Kingdom
ORGANIZER;CN="Coterie Holistic Wellness":MAILTO:info@coterieholisticwellness.co.uk
END:VEVENT
END:VCALENDAR