BEGIN:VCALENDAR
VERSION:2.0
PRODID:-//Coterie Holistic Wellness - ECPv6.15.13.1//NONSGML v1.0//EN
CALSCALE:GREGORIAN
METHOD:PUBLISH
X-ORIGINAL-URL:https://coterieholisticwellness.co.uk
X-WR-CALDESC:Events for Coterie Holistic Wellness
REFRESH-INTERVAL;VALUE=DURATION:PT1H
X-Robots-Tag:noindex
X-PUBLISHED-TTL:PT1H
BEGIN:VTIMEZONE
TZID:UTC
BEGIN:STANDARD
TZOFFSETFROM:+0000
TZOFFSETTO:+0000
TZNAME:UTC
DTSTART:20250101T000000
END:STANDARD
END:VTIMEZONE
BEGIN:VEVENT
DTSTART;TZID=UTC:20260125T190000
DTEND;TZID=UTC:20260125T200000
DTSTAMP:20260421T021545
CREATED:20251206T151701Z
LAST-MODIFIED:20260116T120505Z
UID:4435-1769367600-1769371200@coterieholisticwellness.co.uk
SUMMARY:Guided Meditation & Live Sound Bath (Manifestation + Abundance)
DESCRIPTION:Guided Meditation & Live Sound Bath (Manifestation + Abundance) \nHarness intention\, clarity\, and the supportive energy of sound to call in prosperity for the year ahead. \nWe are so excited to welcome you to our space. \nSession details: \n\nDoors open at 6:45pm and close promptly at 7:00pm\n\nBefore your arrival\, there are a few things we would like you to know to ensure your session is as comfortable and effective as possible: \n\nPlease wear loose\, warm\, and comfortable clothing\nEnsure you have eaten beforehand and are well hydrated\nBathroom facilities are available on site\n\nSound baths are audio-only experiences and involve no physical touch. Sessions take place at ground level. \nYou don’t need to bring anything with you — your sanctuary awaits.\nMattress\, bedding\, pillows\, water\, and eye masks are all provided. \n  \nWe kindly ask that you notify us in advance of any medical conditions or pregnancy so we can assess suitability for your chosen session. \nWe require 48 hours’ notice for all cancellations or rescheduling requests. Cancelling with more than 48 hours’ notice allows for a full refund. \nTransferring of tickets can be arranged with 48 hours’ notice. No refunds of transfer of tickets will be possible if outside this timeframe. \nWe are a small business and having this policy in place helps us preserve our business and allows for ticket resale to those on our waitlist. \nIf you are going to be late for whatever reason\, please call us before the doors close to let us know your situation. \nFinding us:\nPlease use What3Words: ///aside.trials.region for an exact location. \nWe are located in the large wood-clad building at The Castle\, Castle Moorings\, Castle Lane\, GL2 7NE. The driveway entrance is next to Parkend Bridge and marked Private. Please use the allocated parking on the right-hand side of the drive just past our building\, where you will see dedicated signage for Coterie. We kindly ask that you observe the speed limit\, as wildlife roams freely in the area. \nOur entrance is on the canal side of the building and is accessed from the far end once you are on the driveway. There is signage to guide you\, but please feel free to call us on 07724 084794 if you have any difficulty.
URL:https://coterieholisticwellness.co.uk/event/guided-meditation-live-sound-bath-manifestation-abundance/
LOCATION:Coterie Holistic Wellness\, The Castle\, Castle Lane.\, Moreton Valence\, Glos\, GL2 7NE\, United Kingdom
ORGANIZER;CN="Coterie Holistic Wellness":MAILTO:info@coterieholisticwellness.co.uk
END:VEVENT
END:VCALENDAR