BEGIN:VCALENDAR
VERSION:2.0
PRODID:-//Coterie Holistic Wellness - ECPv6.15.13.1//NONSGML v1.0//EN
CALSCALE:GREGORIAN
METHOD:PUBLISH
X-WR-CALNAME:Coterie Holistic Wellness
X-ORIGINAL-URL:https://coterieholisticwellness.co.uk
X-WR-CALDESC:Events for Coterie Holistic Wellness
REFRESH-INTERVAL;VALUE=DURATION:PT1H
X-Robots-Tag:noindex
X-PUBLISHED-TTL:PT1H
BEGIN:VTIMEZONE
TZID:UTC
BEGIN:STANDARD
TZOFFSETFROM:+0000
TZOFFSETTO:+0000
TZNAME:UTC
DTSTART:20250101T000000
END:STANDARD
END:VTIMEZONE
BEGIN:VEVENT
DTSTART;TZID=UTC:20260127T190000
DTEND;TZID=UTC:20260127T200000
DTSTAMP:20260421T002007
CREATED:20251206T132700Z
LAST-MODIFIED:20251206T142852Z
UID:4417-1769540400-1769544000@coterieholisticwellness.co.uk
SUMMARY:Sacred Shamanic Sound Bath
DESCRIPTION:Sacred Shamanic Sound  \nStep into a sacred space where sound becomes a gateway to inner realms. This shamanic journey weaves together the haunting call of Native American flutes\, the deep resonance of gongs\, the heartbeat of drums\, and the earthy textures of shakers and rattles. The luminous tones of Tibetan singing bowls and the pure vibrations of crystal bowls layer the soundscape\, creating waves of harmony that guide you into deep relaxation and expanded awareness. \nYou don’t need to bring a thing\, your sanctuary awaits: \nMattress\, bedding\, pillows\, water and eye masks provided \nIf this event has sold out and you wish to be waitlisted or added to another event please email us at info@coterieholisticwellness.co.uk
URL:https://coterieholisticwellness.co.uk/event/sacred-shamanic-sound-bath/
LOCATION:Coterie Holistic Wellness\, The Castle\, Castle Lane.\, Moreton Valence\, Glos\, GL2 7NE\, United Kingdom
ORGANIZER;CN="Coterie Holistic Wellness":MAILTO:info@coterieholisticwellness.co.uk
END:VEVENT
END:VCALENDAR