BEGIN:VCALENDAR
VERSION:2.0
PRODID:-//Coterie Holistic Wellness - ECPv6.15.13.1//NONSGML v1.0//EN
CALSCALE:GREGORIAN
METHOD:PUBLISH
X-ORIGINAL-URL:https://coterieholisticwellness.co.uk
X-WR-CALDESC:Events for Coterie Holistic Wellness
REFRESH-INTERVAL;VALUE=DURATION:PT1H
X-Robots-Tag:noindex
X-PUBLISHED-TTL:PT1H
BEGIN:VTIMEZONE
TZID:UTC
BEGIN:STANDARD
TZOFFSETFROM:+0000
TZOFFSETTO:+0000
TZNAME:UTC
DTSTART:20250101T000000
END:STANDARD
END:VTIMEZONE
BEGIN:VEVENT
DTSTART;TZID=UTC:20260203T190000
DTEND;TZID=UTC:20260203T200000
DTSTAMP:20260421T002200
CREATED:20260103T140054Z
LAST-MODIFIED:20260115T223659Z
UID:4516-1770145200-1770148800@coterieholisticwellness.co.uk
SUMMARY:Still Waters
DESCRIPTION:Still Waters \n\n\na sound bath for Grounding Into the New Cycle \n\n\n\n\n\nFocus & Intention: \n\n\nSettling the nervous system after the momentum of January\nRooting into the body and breath\nCreating a sense of inner steadiness and trust\n\n\n\n\n\n\n\nYou don’t need to bring a thing\, your sanctuary awaits: \n\n\nMattress\, bedding\, pillows\, water and eye masks provided \nWe are so excited to welcome you to our space. \nSession details: \n\nDoors open at 6:45pm and close promptly at 7:00pm\n\nBefore your arrival\, there are a few things we would like you to know to ensure your session is as comfortable and effective as possible: \n\nPlease wear loose\, warm\, and comfortable clothing\nEnsure you have eaten beforehand and are well hydrated\nBathroom facilities are available on site\n\nSound baths are audio-only experiences and involve no physical touch. Sessions take place at ground level. \nYou don’t need to bring anything with you — your sanctuary awaits.\nMattress\, bedding\, pillows\, water\, and eye masks are all provided. \n  \nWe kindly ask that you notify us in advance of any medical conditions or pregnancy so we can assess suitability for your chosen session. \nWe require 48 hours’ notice for all cancellations or rescheduling requests. Cancelling with more than 48 hours’ notice allows for a full refund. \nTransferring of tickets can be arranged with 48 hours’ notice. No refunds of transfer of tickets will be possible if outside this timeframe. \nWe are a small business and having this policy in place helps us preserve our business and allows for ticket resale to those on our waitlist. \nIf you are going to be late for whatever reason\, please call us before the doors close to let us know your situation.
URL:https://coterieholisticwellness.co.uk/event/still-waters/
LOCATION:Coterie Holistic Wellness\, The Castle\, Castle Lane.\, Moreton Valence\, Glos\, GL2 7NE\, United Kingdom
END:VEVENT
END:VCALENDAR