BEGIN:VCALENDAR
VERSION:2.0
PRODID:-//Coterie Holistic Wellness - ECPv6.15.13.1//NONSGML v1.0//EN
CALSCALE:GREGORIAN
METHOD:PUBLISH
X-WR-CALNAME:Coterie Holistic Wellness
X-ORIGINAL-URL:https://coterieholisticwellness.co.uk
X-WR-CALDESC:Events for Coterie Holistic Wellness
REFRESH-INTERVAL;VALUE=DURATION:PT1H
X-Robots-Tag:noindex
X-PUBLISHED-TTL:PT1H
BEGIN:VTIMEZONE
TZID:UTC
BEGIN:STANDARD
TZOFFSETFROM:+0000
TZOFFSETTO:+0000
TZNAME:UTC
DTSTART:20250101T000000
END:STANDARD
END:VTIMEZONE
BEGIN:VEVENT
DTSTART;TZID=UTC:20260227T193000
DTEND;TZID=UTC:20260227T203000
DTSTAMP:20260420T223257
CREATED:20260211T143638Z
LAST-MODIFIED:20260211T151204Z
UID:4807-1772220600-1772224200@coterieholisticwellness.co.uk
SUMMARY:Waves of Renewal
DESCRIPTION:Waves of Renewal\nA water-inspired sound bath for cleansing\, release\, and renewal. \nAllow the flowing frequencies to wash away tension and stagnant energy\, reconnecting you to calm\, clarity\, and deep peace\nLet the waves carry you back to yourself \nAll bedding\, matrasses\, pillows and eye masks provided.
URL:https://coterieholisticwellness.co.uk/event/waves-of-renewal-2/
LOCATION:Coterie Holistic Wellness\, The Castle\, Castle Lane.\, Moreton Valence\, Glos\, GL2 7NE\, United Kingdom
ORGANIZER;CN="Coterie Holistic Wellness":MAILTO:info@coterieholisticwellness.co.uk
END:VEVENT
END:VCALENDAR