BEGIN:VCALENDAR
VERSION:2.0
PRODID:-//Coterie Holistic Wellness - ECPv6.15.13.1//NONSGML v1.0//EN
CALSCALE:GREGORIAN
METHOD:PUBLISH
X-WR-CALNAME:Coterie Holistic Wellness
X-ORIGINAL-URL:https://coterieholisticwellness.co.uk
X-WR-CALDESC:Events for Coterie Holistic Wellness
REFRESH-INTERVAL;VALUE=DURATION:PT1H
X-Robots-Tag:noindex
X-PUBLISHED-TTL:PT1H
BEGIN:VTIMEZONE
TZID:UTC
BEGIN:STANDARD
TZOFFSETFROM:+0000
TZOFFSETTO:+0000
TZNAME:UTC
DTSTART:20250101T000000
END:STANDARD
END:VTIMEZONE
BEGIN:VEVENT
DTSTART;TZID=UTC:20260313T183000
DTEND;TZID=UTC:20260313T193000
DTSTAMP:20260420T224415
CREATED:20260211T134045Z
LAST-MODIFIED:20260211T134045Z
UID:4803-1773426600-1773430200@coterieholisticwellness.co.uk
SUMMARY:Renewed by Water
DESCRIPTION:
URL:https://coterieholisticwellness.co.uk/event/renewed-by-water/
LOCATION:The Inner Place\, Ledbury\, Herefordshire\, HR8 1BN\, United Kingdom
ORGANIZER;CN="coterieholisticwellness":MAILTO:info@coterieholisticwellness.co.uk
END:VEVENT
END:VCALENDAR