BEGIN:VCALENDAR
VERSION:2.0
PRODID:-//Coterie Holistic Wellness - ECPv6.15.13.1//NONSGML v1.0//EN
CALSCALE:GREGORIAN
METHOD:PUBLISH
X-WR-CALNAME:Coterie Holistic Wellness
X-ORIGINAL-URL:https://coterieholisticwellness.co.uk
X-WR-CALDESC:Events for Coterie Holistic Wellness
REFRESH-INTERVAL;VALUE=DURATION:PT1H
X-Robots-Tag:noindex
X-PUBLISHED-TTL:PT1H
BEGIN:VTIMEZONE
TZID:UTC
BEGIN:STANDARD
TZOFFSETFROM:+0000
TZOFFSETTO:+0000
TZNAME:UTC
DTSTART:20250101T000000
END:STANDARD
END:VTIMEZONE
BEGIN:VEVENT
DTSTART;TZID=UTC:20260320T183000
DTEND;TZID=UTC:20260320T193000
DTSTAMP:20260421T021810
CREATED:20260115T182553Z
LAST-MODIFIED:20260116T120909Z
UID:4612-1774031400-1774035000@coterieholisticwellness.co.uk
SUMMARY:Grounded In Sound
DESCRIPTION:Breathe deeply. Slow down. Let every note carry you back to yourself. \nJoin us for an immersive sound bath designed to calm the mind\, relax the body\, and anchor you into the present moment. \nExperience the vibrational journey\, leave feeling refreshed\, centred and deeply grounded. \nYou don’t need to bring a thing\, your sanctuary awaits: \nMattress\, bedding\, pillows\, water and eye masks provided \n20th March 6:30pm – 7:30pm \nLocation: The Nook Yoga Studio\, \nDale House Bredon Rd\, Tewkesbury GL20 5BX \nWe kindly ask that you notify us in advance of any medical conditions or pregnancy so we can assess suitability for your chosen session. \nWe require 48 hours’ notice for all cancellations or rescheduling requests. Cancelling with more than 48 hours’ notice allows for a full refund. \nTransferring of tickets can be arranged with 48 hours’ notice. No refunds of transfer of tickets will be possible if outside this timeframe. \nWe are a small business and having this policy in place helps us preserve our business and allows for ticket resale to those on our waitlist. \nIf you are going to be late for whatever reason\, please call us before the doors close to let us know your situation.
URL:https://coterieholisticwellness.co.uk/event/grounded-in-sound-2/
LOCATION:The Nook Yoga Studio\, Dale House\, Bredon Road\,\, Tewkesbury\, Gloucestershire\, GL20 5BX\, United Kingdom
ORGANIZER;CN="coterieholisticwellness":MAILTO:info@coterieholisticwellness.co.uk
END:VEVENT
BEGIN:VEVENT
DTSTART;TZID=UTC:20260322T190000
DTEND;TZID=UTC:20260322T200000
DTSTAMP:20260421T021810
CREATED:20260218T113611Z
LAST-MODIFIED:20260322T082702Z
UID:4850-1774206000-1774209600@coterieholisticwellness.co.uk
SUMMARY:Guided Meditation & sound bath
DESCRIPTION:Guided Meditation & sound bath \n\n\nmindfulness for a higher consciousness practice \n\n\n\nStep into an evening of tranquillity and calm as you’re gently guided into a deep\, restorative meditation enhanced by the healing vibrations of a live sound bath
URL:https://coterieholisticwellness.co.uk/event/guided-meditation-sound-bath/
LOCATION:Coterie Holistic Wellness\, The Castle\, Castle Lane.\, Moreton Valence\, Glos\, GL2 7NE\, United Kingdom
ORGANIZER;CN="coterieholisticwellness":MAILTO:info@coterieholisticwellness.co.uk
END:VEVENT
BEGIN:VEVENT
DTSTART;TZID=UTC:20260324T190000
DTEND;TZID=UTC:20260324T200000
DTSTAMP:20260421T021810
CREATED:20260204T230312Z
LAST-MODIFIED:20260204T230447Z
UID:4756-1774378800-1774382400@coterieholisticwellness.co.uk
SUMMARY:RETURN TO GAIA
DESCRIPTION:RETURN TO GAIAA 60-Minute Sound Bath Journey \nStep out of the noise and into deep\, healing stillness. \nThis immersive sound bath is designed to gently guide your nervous system into rest through earth-tuned frequencies\, crystal singing bowls\, gongs\, and guided grounding. \nIn this 60-minute experience\, you’ll:\n• Release stress & tension• Calm your nervous system• Reset your energy• Feel deeply grounded & supported• Reconnect to your natural rhythm \nGaia is the living intelligence of Earth — and when we tune into her frequency\, we remember balance\, safety\, and peace. \nNo experience needed. Just lie down\, breathe\, and receive. \nYou don’t need to bring a thing\, your sanctuary awaits: \nMattress\, bedding\, pillows\, water and eye masks provided
URL:https://coterieholisticwellness.co.uk/event/return-to-gaia/
LOCATION:Coterie Holistic Wellness\, The Castle\, Castle Lane.\, Moreton Valence\, Glos\, GL2 7NE\, United Kingdom
ORGANIZER;CN="coterieholisticwellness":MAILTO:info@coterieholisticwellness.co.uk
END:VEVENT
BEGIN:VEVENT
DTSTART;TZID=UTC:20260327T193000
DTEND;TZID=UTC:20260327T203000
DTSTAMP:20260421T021810
CREATED:20260226T193758Z
LAST-MODIFIED:20260226T193758Z
UID:4912-1774639800-1774643400@coterieholisticwellness.co.uk
SUMMARY:Sacred Shamanic Sound
DESCRIPTION:Sacred Shamanic Sound\nStep into a sacred space where sound becomes a gateway to inner realms. This shamanic journey weaves together the haunting call of Native American flutes\, the deep resonance of gongs\, the heartbeat of drums\, and the earthy textures of shakers and rattles. The luminous tones of Tibetan singing bowls and the pure vibrations of crystal bowls layer the soundscape\, creating waves of harmony that guide you into deep relaxation and expanded awareness.\nYou don’t need to bring a thing\, your sanctuary awaits:\nMattress\, bedding\, pillows\, water and eye masks provided
URL:https://coterieholisticwellness.co.uk/event/sacred-shamanic-sound-2/
LOCATION:Glos
ORGANIZER;CN="Coterie Holistic Wellness":MAILTO:info@coterieholisticwellness.co.uk
END:VEVENT
BEGIN:VEVENT
DTSTART;TZID=UTC:20260331T190000
DTEND;TZID=UTC:20260331T200000
DTSTAMP:20260421T021810
CREATED:20260211T173258Z
LAST-MODIFIED:20260211T173258Z
UID:4813-1774983600-1774987200@coterieholisticwellness.co.uk
SUMMARY:Dusk till Dawn Sound bath
DESCRIPTION:“The night is always darkest before the dawn.” \nSink into a cocoon of sound as nature’s nighttime frequencies guide your nervous system into deep rest.Crickets. Wind. Low frequency waves. Hypnotic soundscapes designed to quiet your mind\, soften your body\, and reset your sleep. \nThis is not meditation.This is nervous system therapy through sound. \n🖤 Perfect for:• Insomnia• Anxiety• Burnout• Overthinking• Deep rest seekers
URL:https://coterieholisticwellness.co.uk/event/dusk-till-dawn-sound-bath/
LOCATION:Coterie Holistic Wellness\, The Castle\, Castle Lane.\, Moreton Valence\, Glos\, GL2 7NE\, United Kingdom
ORGANIZER;CN="coterieholisticwellness":MAILTO:info@coterieholisticwellness.co.uk
END:VEVENT
BEGIN:VEVENT
DTSTART;TZID=UTC:20260407T190000
DTEND;TZID=UTC:20260407T200000
DTSTAMP:20260421T021810
CREATED:20260218T120915Z
LAST-MODIFIED:20260218T120915Z
UID:4854-1775588400-1775592000@coterieholisticwellness.co.uk
SUMMARY:The Divine Lullaby Sound bath
DESCRIPTION:The Divine Lullaby Sound bath \n\n\n\nit’s time to be gentle with yourself. \n\n\n\n\n\n\n\n\n\nInspired and woven with the soothing sounds of global Lullabies to induce deep rest peace and hug for the soul
URL:https://coterieholisticwellness.co.uk/event/the-divine-lullaby-sound-bath/
LOCATION:Coterie Holistic Wellness\, The Castle\, Castle Lane.\, Moreton Valence\, Glos\, GL2 7NE\, United Kingdom
ORGANIZER;CN="Coterie Holistic Wellness":MAILTO:info@coterieholisticwellness.co.uk
END:VEVENT
BEGIN:VEVENT
DTSTART;TZID=UTC:20260414T190000
DTEND;TZID=UTC:20260414T203000
DTSTAMP:20260421T021810
CREATED:20260218T122052Z
LAST-MODIFIED:20260218T122052Z
UID:4859-1776193200-1776198600@coterieholisticwellness.co.uk
SUMMARY:Chakra Realignment Sound Bath
DESCRIPTION:“Your energy is out of alignment and you can feel it.”Join us for a deeply restorative Chakra Realignment Sound Bath infused with 1-to-1 Reiki to release emotional blockages\, calm your nervous system\, and bring your energy back into balance. \nThis is not just a sound bath — it’s a full energetic recalibration.With healing frequencies\, crystal bowls\, and personal Reiki\, you’ll leave feeling lighter\, clearer\, and deeply grounded. \nYour nervous system will thank you.Your soul will feel it. \nSink into soft bedding\, close your eyes\, and allow sound frequencies and Reiki energy to do the work for you.No effort.No pressure.Just profound energetic healing. \nLimited spaces.One powerful night.
URL:https://coterieholisticwellness.co.uk/event/chakra-realignment-sound-bath-4/
LOCATION:Coterie Holistic Wellness\, The Castle\, Castle Lane.\, Moreton Valence\, Glos\, GL2 7NE\, United Kingdom
END:VEVENT
BEGIN:VEVENT
DTSTART;TZID=UTC:20260417T183000
DTEND;TZID=UTC:20260417T193000
DTSTAMP:20260421T021810
CREATED:20260322T124838Z
LAST-MODIFIED:20260407T161849Z
UID:5035-1776450600-1776454200@coterieholisticwellness.co.uk
SUMMARY:Dawn Of Renewal
DESCRIPTION:Dawn of Renewal Sound Bath \n\n\nStep into a serene evening of restoration\, clarity\, and new beginnings. The Dawn of Renewal Sound Bath is a 60 minute immersive experience designed to reset your mind\, refresh your spirit\, and leave you feeling light\, calm\, and revitalized.\n\n\n\nYou don’t need to bring a thing\, your sanctuary awaits:\nMattress\, bedding\, pillows\, water and eye masks provided\nReserve your spot today.\n\n\n Let the sounds of renewal guide you to a brighter\, lighter beginning.
URL:https://coterieholisticwellness.co.uk/event/5035/
LOCATION:The Nook Yoga Studio\, Dale House\, Bredon Road\,\, Tewkesbury\, Gloucestershire\, GL20 5BX\, United Kingdom
ORGANIZER;CN="Coterie Holistic Wellness":MAILTO:info@coterieholisticwellness.co.uk
END:VEVENT
BEGIN:VEVENT
DTSTART;TZID=UTC:20260417T190000
DTEND;TZID=UTC:20260417T203000
DTSTAMP:20260421T021810
CREATED:20260309T183331Z
LAST-MODIFIED:20260309T183331Z
UID:4979-1776452400-1776457800@coterieholisticwellness.co.uk
SUMMARY:New Moon Wisdom
DESCRIPTION:New Moon Circle: Intention\, Renewal & Soul Alignment  \n\nStep into the quiet power of the New Moon\, a sacred moment to pause\, reflect\, and plant the seeds of new intentions. \nIn this gentle and inspiring workshop we will explore the wisdom of the New Moon as a time for renewal and inner alignment. Through guided reflection\, intention setting\, and soulful practices inspired by lunar cycles and mystical teachings\, you will be invited to reconnect with yourself\, release what no longer serves you\, and align with what you truly wish to cultivate in the coming cycle. \n✨ Free Gift: Each participant will receive a small self care gift and a beautifully designed New Moon Intention and Reflection Guide to support your practice and continue working with the lunar cycle at home. \nCost £20 \nTickets – https://buy.stripe.com/3cI3cv0ys4fbbGn9IT4sE04
URL:https://coterieholisticwellness.co.uk/event/new-moon-wisdom/
LOCATION:Coterie Holistic Wellness\, The Castle\, Castle Lane.\, Moreton Valence\, Glos\, GL2 7NE\, United Kingdom
END:VEVENT
BEGIN:VEVENT
DTSTART;TZID=UTC:20260421T190000
DTEND;TZID=UTC:20260421T200000
DTSTAMP:20260421T021810
CREATED:20260218T122719Z
LAST-MODIFIED:20260218T123137Z
UID:4863-1776798000-1776801600@coterieholisticwellness.co.uk
SUMMARY:Hello Spring Sound bath
DESCRIPTION:🌿 HELLO SPRING — A Sound Bath Experience 🌿 \nSpring is a time for new beginnings…Let go of the old\, and gently welcome the new with a deeply relaxing Spring Sound Bath. \n✨ Sink into stillness✨ Restore your nervous system✨ Feel refreshed and renewed
URL:https://coterieholisticwellness.co.uk/event/hello-spring-sound-bath/
LOCATION:Coterie Holistic Wellness\, The Castle\, Castle Lane.\, Moreton Valence\, Glos\, GL2 7NE\, United Kingdom
ORGANIZER;CN="coterieholisticwellness":MAILTO:info@coterieholisticwellness.co.uk
END:VEVENT
BEGIN:VEVENT
DTSTART;TZID=UTC:20260426T190000
DTEND;TZID=UTC:20260426T200000
DTSTAMP:20260421T021810
CREATED:20260301T162312Z
LAST-MODIFIED:20260301T162312Z
UID:4933-1777230000-1777233600@coterieholisticwellness.co.uk
SUMMARY:Positive Affirmations Guided Meditation & live sound bath
DESCRIPTION:Positive Affirmations Guided Meditation & live sound bath
URL:https://coterieholisticwellness.co.uk/event/positive-affirmations-guided-meditation-live-sound-bath/
LOCATION:Coterie Holistic Wellness\, The Castle\, Castle Lane.\, Moreton Valence\, Glos\, GL2 7NE\, United Kingdom
ORGANIZER;CN="coterieholisticwellness":MAILTO:info@coterieholisticwellness.co.uk
END:VEVENT
BEGIN:VEVENT
DTSTART;TZID=UTC:20260428T190000
DTEND;TZID=UTC:20260428T200000
DTSTAMP:20260421T021810
CREATED:20260218T125711Z
LAST-MODIFIED:20260218T125711Z
UID:4867-1777402800-1777406400@coterieholisticwellness.co.uk
SUMMARY:Return to the Womb
DESCRIPTION:🔮 RETURN TO THE WOMB\nAn Immersive Sound Bath Experience \n✨ You didn’t come here to “relax.”You came to be reborn. \nClose your eyes.Feel yourself float.Drop back into a place where nothing is required of you… \nNo stress.No identity.No noise. \nJust deep\, primal stillness. \nReturn to the Womb is not a meditation.It’s a sonic journey back to your origin. \nA cocoon of sound surrounds your body:🌊 Sub-bass vibrations🫧 Crystal bowls💗 Heartbeat rhythms🌌 Harmonic frequencies \ndesigned to guide your nervous system into complete safety\, surrender\, and reset. \nThis is where:• Trauma softens• The mind quiets• The body remembers how to heal \n\n🧬 What You’ll Experience\n✔ A full-body vibrational soundscape✔ Deep theta-state relaxation✔ Emotional release + nervous system recalibration✔ A feeling of being held\, cradled\, and supported \nMany participants describe it as:“being wrapped in sound”“floating in warm darkness”“a womb-like return to peace.” \n\n🌑 Who This Is For\nYou if you’re:• Burnt out• Overstimulated• Emotionally heavy• Craving safety\, softness & stillness
URL:https://coterieholisticwellness.co.uk/event/return-to-the-womb/
LOCATION:Coterie Holistic Wellness\, The Castle\, Castle Lane.\, Moreton Valence\, Glos\, GL2 7NE\, United Kingdom
ORGANIZER;CN="coterieholisticwellness":MAILTO:info@coterieholisticwellness.co.uk
END:VEVENT
BEGIN:VEVENT
DTSTART;TZID=UTC:20260505T190000
DTEND;TZID=UTC:20260505T203000
DTSTAMP:20260421T021810
CREATED:20260324T133507Z
LAST-MODIFIED:20260326T145156Z
UID:5047-1778007600-1778013000@coterieholisticwellness.co.uk
SUMMARY:Pendulum Healing and Live sound Bath
DESCRIPTION:“What if 90 minutes could reset your nervous system\, clear emotional blocks\, and realign your energy\, without you having to do anything?”\n\n\nThis isn’t just a sound bath.\nThis isn’t just energy work.\nThis is a full-body energetic recalibration.\n\n\nJoin us for a Live Sound Bath & Pendulum Healing Experience\, a 90-minute journey designed to release stored stress\, clear energetic blocks\, and bring your system back into harmony.\n\n\nThrough frequency\, vibration\, and intuitive pendulum work\, we’ll gently guide your body out of survival mode and into deep restoration.\n\n\nMost people leave feeling:\n lighter\n clearer\n calmer\n deeply grounded\n\n\nNo experience needed. Just come\, lay down\, and receive. All bedding\, mattresses\, blankets\, pillows and eye masks provided.
URL:https://coterieholisticwellness.co.uk/event/pendulum-healing-and-live-sound-bath/
LOCATION:Coterie Holistic Wellness\, The Castle\, Castle Lane.\, Moreton Valence\, Glos\, GL2 7NE\, United Kingdom
ORGANIZER;CN="coterieholisticwellness":MAILTO:info@coterieholisticwellness.co.uk
END:VEVENT
BEGIN:VEVENT
DTSTART;TZID=UTC:20260508T183000
DTEND;TZID=UTC:20260508T193000
DTSTAMP:20260421T021810
CREATED:20260406T183843Z
LAST-MODIFIED:20260414T161938Z
UID:5112-1778265000-1778268600@coterieholisticwellness.co.uk
SUMMARY:May Sound Bath "Still waters"
DESCRIPTION:
URL:https://coterieholisticwellness.co.uk/event/may-sound-bath-still-waters/
LOCATION:The Inner Place\, Ledbury\, Herefordshire\, HR8 1BN\, United Kingdom
ORGANIZER;CN="coterieholisticwellness":MAILTO:info@coterieholisticwellness.co.uk
END:VEVENT
BEGIN:VEVENT
DTSTART;TZID=UTC:20260512T190000
DTEND;TZID=UTC:20260512T200000
DTSTAMP:20260421T021810
CREATED:20260324T134213Z
LAST-MODIFIED:20260324T134213Z
UID:5053-1778612400-1778616000@coterieholisticwellness.co.uk
SUMMARY:Forest Sound Bath
DESCRIPTION:Join us for a nourishing soul journey exploring the healing sounds within nature in our specially designed Sound bath . Recalibrate\, release and reconnect with the earth in this grounding sound bath designed to allow you to disconnect from the rush and stress of modern life. \n\n\n\n 
URL:https://coterieholisticwellness.co.uk/event/forest-sound-bath/
LOCATION:Coterie Holistic Wellness\, The Castle\, Castle Lane.\, Moreton Valence\, Glos\, GL2 7NE\, United Kingdom
ORGANIZER;CN="coterieholisticwellness":MAILTO:info@coterieholisticwellness.co.uk
END:VEVENT
BEGIN:VEVENT
DTSTART;TZID=UTC:20260515T190000
DTEND;TZID=UTC:20260515T213000
DTSTAMP:20260421T021810
CREATED:20260330T191440Z
LAST-MODIFIED:20260330T191440Z
UID:5093-1778871600-1778880600@coterieholisticwellness.co.uk
SUMMARY:The Goddess Archetype Activation Workshop: Awaken Your Inner Goddess
DESCRIPTION:Step into a powerful journey of self-discovery and transformation. In this immersive workshop\, you’ll explore the different goddess archetypes within you\, uncovering the hidden parts of your identity\, power\, and expression. Through guided exercises\, reflection\, and embodiment\, you’ll awaken your inner goddess and leave feeling more confident\, aligned\, and deeply connected to who you truly are.\n \nThis is more than just a workshop\, it’s a space to reconnect with yourself on a deeper level. You’ll gain clarity on the energies you naturally embody and those ready to be activated\, while being held in a supportive\, empowering environment. You’ll also be guided through a deeply restorative sound bath\, designed to help you reconnect with your inner goddess\, calm the mind\, and integrate your experience on a deeper level.\n \nWhether you’re seeking confidence\, direction\, or a deeper sense of self\, this experience will leave you feeling expanded\, grounded\, and reconnected to your feminine power. As part of your journey\, you’ll also receive a crystal gift\, an intentional keepsake to anchor the goddess energy you awaken and carry it with you beyond the workshop. 💎✨
URL:https://coterieholisticwellness.co.uk/event/the-goddess-archetype-activation-workshop-awaken-your-inner-goddess/
LOCATION:Coterie Holistic Wellness\, The Castle\, Castle Lane.\, Moreton Valence\, Glos\, GL2 7NE\, United Kingdom
ORGANIZER;CN="coterieholisticwellness":MAILTO:info@coterieholisticwellness.co.uk
END:VEVENT
BEGIN:VEVENT
DTSTART;TZID=UTC:20260517T133000
DTEND;TZID=UTC:20260517T183000
DTSTAMP:20260421T021810
CREATED:20260408T211740Z
LAST-MODIFIED:20260408T213824Z
UID:5119-1779024600-1779042600@coterieholisticwellness.co.uk
SUMMARY:🌙 Craft Your Dreams: Dreamcatcher Workshop 🌙
DESCRIPTION:🌙 Craft Your Dreams: Dreamcatcher Workshop 🌙 \nJoin us for a magical\, hands-on experience where you’ll create your very own dreamcatcher using ropes\, knots\, and beautiful natural elements. \n✨ Personalise Your Creation:Choose from a range of colours and finish your piece with feathers to design a dreamcatcher that truly reflects your style and energy. \n🧵 What You’ll Learn: \n\nTraditional knotting techniques\nCreative weaving with rope and fibres\nHow to craft a meaningful\, handmade keepsake\n\n💫 This beautiful experience is brought to you in collaboration withCoterie Holistic Wellness × Knots About Macrame \n🌿 A Truly Restorative Experience:The day will gently close with a 1-hour deeply restorative sound bath\, allowing you to relax\, reset\, and fully soak in the creative energy of the workshop. \n🍰 A Little Treat for You:Enjoy herbal tea and cake as you craft\, creating a cosy and nurturing atmosphere throughout the day. \n📸 For more inspiration and details\, visit:Instagram: @knots_aboutmacrame.glos \n🖐 Who Can Join:Perfect for beginners and creatives—no experience needed!
URL:https://coterieholisticwellness.co.uk/event/%f0%9f%8c%99-craft-your-dreams-dreamcatcher-workshop-%f0%9f%8c%99/
LOCATION:Coterie Holistic Wellness\, The Castle\, Castle Lane.\, Moreton Valence\, Glos\, GL2 7NE\, United Kingdom
ORGANIZER;CN="coterieholisticwellness":MAILTO:info@coterieholisticwellness.co.uk
END:VEVENT
BEGIN:VEVENT
DTSTART;TZID=UTC:20260519T190000
DTEND;TZID=UTC:20260519T200000
DTSTAMP:20260421T021810
CREATED:20260324T134746Z
LAST-MODIFIED:20260324T134813Z
UID:5057-1779217200-1779220800@coterieholisticwellness.co.uk
SUMMARY:The Dream Portal
DESCRIPTION:A deeply hypnotic Sound bath aimed at aiding sleep and opening the portal for dreams
URL:https://coterieholisticwellness.co.uk/event/the-dream-portal/
LOCATION:Coterie Holistic Wellness\, The Castle\, Castle Lane.\, Moreton Valence\, Glos\, GL2 7NE\, United Kingdom
ORGANIZER;CN="coterieholisticwellness":MAILTO:info@coterieholisticwellness.co.uk
END:VEVENT
BEGIN:VEVENT
DTSTART;TZID=UTC:20260524T190000
DTEND;TZID=UTC:20260524T200000
DTSTAMP:20260421T021810
CREATED:20260324T135741Z
LAST-MODIFIED:20260324T135741Z
UID:5066-1779649200-1779652800@coterieholisticwellness.co.uk
SUMMARY:Live sound bath and guided meditation
DESCRIPTION:a healing journey through the chakras \n\n\n\nlive sound bath and guided meditation
URL:https://coterieholisticwellness.co.uk/event/live-sound-bath-and-guided-meditation/
LOCATION:Coterie Holistic Wellness\, The Castle\, Castle Lane.\, Moreton Valence\, Glos\, GL2 7NE\, United Kingdom
ORGANIZER;CN="Coterie Holistic Wellness":MAILTO:info@coterieholisticwellness.co.uk
END:VEVENT
BEGIN:VEVENT
DTSTART;TZID=UTC:20260526T190000
DTEND;TZID=UTC:20260526T200000
DTSTAMP:20260421T021810
CREATED:20260324T135250Z
LAST-MODIFIED:20260324T135250Z
UID:5062-1779822000-1779825600@coterieholisticwellness.co.uk
SUMMARY:3rd Eye Sound Bath
DESCRIPTION:Designed to clear blockages & stimulate the third eye to aid in growth. Euphoric and uplifting. A Celebration of source.
URL:https://coterieholisticwellness.co.uk/event/3rd-eye-sound-bath/
LOCATION:Coterie Holistic Wellness\, The Castle\, Castle Lane.\, Moreton Valence\, Glos\, GL2 7NE\, United Kingdom
ORGANIZER;CN="Coterie Holistic Wellness":MAILTO:info@coterieholisticwellness.co.uk
END:VEVENT
BEGIN:VEVENT
DTSTART;TZID=UTC:20260612T190000
DTEND;TZID=UTC:20260612T210000
DTSTAMP:20260421T021810
CREATED:20260330T192332Z
LAST-MODIFIED:20260330T192332Z
UID:5097-1781290800-1781298000@coterieholisticwellness.co.uk
SUMMARY:The Kabbalistic Keys to Awakening Your True Potential
DESCRIPTION:Step into clarity\, purpose\, and empowerment in this transformative workshop where ancient Kabbalistic wisdom meets practical tools for modern life. Through the Tree of Life\, you’ll learn how to break through inner blocks\, deepen self-awareness\, and activate your true potential\, with no experience needed. \nPerfect if you’re feeling stuck\, struggling with self-doubt\, seeking deeper meaning\, or ready to release old patterns and grow. You’ll gain simple yet powerful techniques to shift your mindset and energy\, develop emotional balance\, and connect with a supportive\, like-minded community. \nThe workshop will close with a deeply restorative sound bath\, helping you integrate the experience\, relax your body\, and realign your energy. \nAll attendees will receive a pocket-sized Tree of Life card and a self-care kit\, a meaningful reminder of your unique path and potential. \nReady to step into your true potential? Book your place today. ✨
URL:https://coterieholisticwellness.co.uk/event/the-kabbalistic-keys-to-awakening-your-true-potential/
LOCATION:Coterie Holistic Wellness\, The Castle\, Castle Lane.\, Moreton Valence\, Glos\, GL2 7NE\, United Kingdom
ORGANIZER;CN="coterieholisticwellness":MAILTO:info@coterieholisticwellness.co.uk
END:VEVENT
END:VCALENDAR