BEGIN:VCALENDAR
VERSION:2.0
PRODID:-//Coterie Holistic Wellness - ECPv6.15.13.1//NONSGML v1.0//EN
CALSCALE:GREGORIAN
METHOD:PUBLISH
X-WR-CALNAME:Coterie Holistic Wellness
X-ORIGINAL-URL:https://coterieholisticwellness.co.uk
X-WR-CALDESC:Events for Coterie Holistic Wellness
REFRESH-INTERVAL;VALUE=DURATION:PT1H
X-Robots-Tag:noindex
X-PUBLISHED-TTL:PT1H
BEGIN:VTIMEZONE
TZID:UTC
BEGIN:STANDARD
TZOFFSETFROM:+0000
TZOFFSETTO:+0000
TZNAME:UTC
DTSTART:20240101T000000
END:STANDARD
END:VTIMEZONE
BEGIN:VEVENT
DTSTART;TZID=UTC:20251104T190000
DTEND;TZID=UTC:20251104T203000
DTSTAMP:20260421T040159
CREATED:20251023T150004Z
LAST-MODIFIED:20251023T152024Z
UID:4128-1762282800-1762288200@coterieholisticwellness.co.uk
SUMMARY:Beaver Moon Sound Bath
DESCRIPTION:we warmly invite you to this releasing and calming soundbath in readiness for the November ‘beavers’ full moon. \nWhilst nature prepares to slow down and rest we follow suit\, releasing unwanted stresses and inviting the peace of slumber and relaxation
URL:https://coterieholisticwellness.co.uk/event/beaver-moon-sound-bath/
LOCATION:Coterie Holistic Wellness\, The Castle\, Castle Lane.\, Moreton Valence\, Glos\, GL2 7NE\, United Kingdom
ORGANIZER;CN="Coterie Holistic Wellness":MAILTO:info@coterieholisticwellness.co.uk
END:VEVENT
BEGIN:VEVENT
DTSTART;TZID=UTC:20251111T190000
DTEND;TZID=UTC:20251111T203000
DTSTAMP:20260421T040159
CREATED:20251023T160247Z
LAST-MODIFIED:20251027T202743Z
UID:4136-1762887600-1762893000@coterieholisticwellness.co.uk
SUMMARY:Waves of Renewal
DESCRIPTION:EMBRACING THE CALMING SERNITY OF MOVING WATER\, WE INVITE YOU TO DRIFT AWAY TO THE SOUNDS OF THE SEA & RAIN. \nLET THE GENTLE FLOW OF WATER BASED SOUNDS LEAVE YOU CLEANSED AND REFRESHED
URL:https://coterieholisticwellness.co.uk/event/waves-of-renewal/
LOCATION:Coterie Holistic Wellness\, The Castle\, Castle Lane.\, Moreton Valence\, Glos\, GL2 7NE\, United Kingdom
ORGANIZER;CN="Coterie Holistic Wellness":MAILTO:info@coterieholisticwellness.co.uk
END:VEVENT
BEGIN:VEVENT
DTSTART;TZID=UTC:20251114T170000
DTEND;TZID=UTC:20251114T180000
DTSTAMP:20260421T040159
CREATED:20251023T111018Z
LAST-MODIFIED:20251112T113438Z
UID:4111-1763139600-1763143200@coterieholisticwellness.co.uk
SUMMARY:Autumn Sound Bath
DESCRIPTION: 
URL:https://coterieholisticwellness.co.uk/event/autumn-sound-bath/
LOCATION:The Inner Place\, Ledbury\, Herefordshire\, HR8 1BN\, United Kingdom
ORGANIZER;CN="Coterie Holistic Wellness":MAILTO:info@coterieholisticwellness.co.uk
END:VEVENT
BEGIN:VEVENT
DTSTART;TZID=UTC:20251118T190000
DTEND;TZID=UTC:20251118T203000
DTSTAMP:20260421T040159
CREATED:20251023T160833Z
LAST-MODIFIED:20251103T160239Z
UID:4149-1763492400-1763497800@coterieholisticwellness.co.uk
SUMMARY:Be Still Sound Bath
DESCRIPTION:Be still sound bath\, \n\n\n\n“in the stillness there is calm” \n\n\n\n\n\n\n\n\nexploring deep binaural tones and embracing the tranquillity of silence\, our ‘Be Still’ Sound bath is designed to reconnect and ground
URL:https://coterieholisticwellness.co.uk/event/be-still-sound-bath/
LOCATION:Coterie Holistic Wellness\, The Castle\, Castle Lane.\, Moreton Valence\, Glos\, GL2 7NE\, United Kingdom
ORGANIZER;CN="Coterie Holistic Wellness":MAILTO:info@coterieholisticwellness.co.uk
END:VEVENT
BEGIN:VEVENT
DTSTART;TZID=UTC:20251121T183000
DTEND;TZID=UTC:20251121T193000
DTSTAMP:20260421T040159
CREATED:20251023T133036Z
LAST-MODIFIED:20251023T133036Z
UID:4115-1763749800-1763753400@coterieholisticwellness.co.uk
SUMMARY:Echoes of our Ancestors
DESCRIPTION:Echoes of our Ancestors\n\n\n“A sound bath to honour the thinning veil.”\n\n\nTogether\, we’ll descend into shadow\, honour the presence of our ancestors\, and return renewed\, bathed in light\, sound\, and stillness.\nYou don’t need to bring a thing:\nMattress\, bedding\, pillows\, water and eye masks provide\n\n\n Date: 21st November 2025\n Location: The Nook Yoga studio in Tewkesbury \n\nDale House Bredon Rd\, Tewkesbury GL20 5BX\n\n\n Time: 6:30pm  – 7:30pm\nContribution £18\n Limited spots — reserve yours now.
URL:https://coterieholisticwellness.co.uk/event/echoes-of-our-ancestors-2/
LOCATION:The Nook Yoga Studio\, Dale House\, Bredon Road\,\, Tewkesbury\, Gloucestershire\, GL20 5BX\, United Kingdom
ORGANIZER;CN="Coterie Holistic Wellness":MAILTO:info@coterieholisticwellness.co.uk
END:VEVENT
BEGIN:VEVENT
DTSTART;TZID=UTC:20251123T183000
DTEND;TZID=UTC:20251123T193000
DTSTAMP:20260421T040159
CREATED:20251027T201421Z
LAST-MODIFIED:20251027T201421Z
UID:4184-1763922600-1763926200@coterieholisticwellness.co.uk
SUMMARY:Guided Meditation & live Sound  Journey
DESCRIPTION:Join us for a gentle journey of self awareness focusing on positive affirmations \n\n\n\nSunday 23rd of November \n\n\n\nBeginner friendly session and environment \n\n\n\nBedding\, blankets & water provided.
URL:https://coterieholisticwellness.co.uk/event/guided-meditation-live-sound-journey/
LOCATION:Coterie Holistic Wellness\, The Castle\, Castle Lane.\, Moreton Valence\, Glos\, GL2 7NE\, United Kingdom
ORGANIZER;CN="Coterie Holistic Wellness":MAILTO:info@coterieholisticwellness.co.uk
END:VEVENT
BEGIN:VEVENT
DTSTART;TZID=UTC:20251125T190000
DTEND;TZID=UTC:20251125T203000
DTSTAMP:20260421T040159
CREATED:20251023T162015Z
LAST-MODIFIED:20251027T202529Z
UID:4152-1764097200-1764102600@coterieholisticwellness.co.uk
SUMMARY:Harvest Gratefulness sound bath
DESCRIPTION:Harvest Gratefulness Sound Bath \n\n\n\n\n\n\nMay your heart be overflowing with thankfulness and your soul be relaxed
URL:https://coterieholisticwellness.co.uk/event/harvest-gratefulness-sound-bath/
LOCATION:Coterie Holistic Wellness\, The Castle\, Castle Lane.\, Moreton Valence\, Glos\, GL2 7NE\, United Kingdom
ORGANIZER;CN="coterieholisticwellness":MAILTO:info@coterieholisticwellness.co.uk
END:VEVENT
BEGIN:VEVENT
DTSTART;TZID=UTC:20251128T183000
DTEND;TZID=UTC:20251128T193000
DTSTAMP:20260421T040159
CREATED:20251023T133708Z
LAST-MODIFIED:20251023T133708Z
UID:4123-1764354600-1764358200@coterieholisticwellness.co.uk
SUMMARY:Echoes of the Earth Sound bath
DESCRIPTION:Echoes of the Earth is an immersive sound journey where ancient vibrations awaken new awareness.” \n“Experience the earth’s echo within you\, a sound bath of grounding frequencies and celestial overtones designed to uplift and transform.” \n📍 Location: The Nook Yoga Studio Dale House Bredon Rd\, Tewkesbury GL20 5BX \n\nFriday 28th November 2025 – 6:30pm – 7:30pm \n£18 per person \n🎶 Bring: a yoga mat\, blanket\, and an open heart. \n\nSpaces are limited—reserve your spot and let the earth’s echoes carry you home.
URL:https://coterieholisticwellness.co.uk/event/echoes-of-the-earth-sound-bath/
LOCATION:The Nook Yoga Studio\, Dale House\, Bredon Road\,\, Tewkesbury\, Gloucestershire\, GL20 5BX\, United Kingdom
ORGANIZER;CN="Coterie Holistic Wellness":MAILTO:info@coterieholisticwellness.co.uk
END:VEVENT
END:VCALENDAR