BEGIN:VCALENDAR
VERSION:2.0
PRODID:-//Coterie Holistic Wellness - ECPv6.15.13.1//NONSGML v1.0//EN
CALSCALE:GREGORIAN
METHOD:PUBLISH
X-WR-CALNAME:Coterie Holistic Wellness
X-ORIGINAL-URL:https://coterieholisticwellness.co.uk
X-WR-CALDESC:Events for Coterie Holistic Wellness
REFRESH-INTERVAL;VALUE=DURATION:PT1H
X-Robots-Tag:noindex
X-PUBLISHED-TTL:PT1H
BEGIN:VTIMEZONE
TZID:UTC
BEGIN:STANDARD
TZOFFSETFROM:+0000
TZOFFSETTO:+0000
TZNAME:UTC
DTSTART:20240101T000000
END:STANDARD
END:VTIMEZONE
BEGIN:VEVENT
DTSTART;TZID=UTC:20251202T110000
DTEND;TZID=UTC:20251202T120000
DTSTAMP:20260421T020846
CREATED:20251121T101744Z
LAST-MODIFIED:20251121T101744Z
UID:4340-1764673200-1764676800@coterieholisticwellness.co.uk
SUMMARY:Baby Sound Bath
DESCRIPTION:
URL:https://coterieholisticwellness.co.uk/event/baby-sound-bath/
LOCATION:Coterie Holistic Wellness\, The Castle\, Castle Lane.\, Moreton Valence\, Glos\, GL2 7NE\, United Kingdom
ORGANIZER;CN="Coterie Holistic Wellness":MAILTO:info@coterieholisticwellness.co.uk
END:VEVENT
BEGIN:VEVENT
DTSTART;TZID=UTC:20251202T190000
DTEND;TZID=UTC:20251202T203000
DTSTAMP:20260421T020846
CREATED:20251028T212018Z
LAST-MODIFIED:20251128T120321Z
UID:4211-1764702000-1764707400@coterieholisticwellness.co.uk
SUMMARY:Super Moon Sound Bath
DESCRIPTION:In preparation for the ’Super Moon in December we invite you to join us for a specially designed sound journey . Known as the ‘ Moon before Yule’ we have this as the last full moon before celebrating the return of longer days .
URL:https://coterieholisticwellness.co.uk/event/super-moon-sound-bath/
LOCATION:Coterie Holistic Wellness\, The Castle\, Castle Lane.\, Moreton Valence\, Glos\, GL2 7NE\, United Kingdom
ORGANIZER;CN="coterieholisticwellness":MAILTO:info@coterieholisticwellness.co.uk
END:VEVENT
BEGIN:VEVENT
DTSTART;TZID=UTC:20251209T190000
DTEND;TZID=UTC:20251209T203000
DTSTAMP:20260421T020846
CREATED:20251028T213733Z
LAST-MODIFIED:20251028T213733Z
UID:4215-1765306800-1765312200@coterieholisticwellness.co.uk
SUMMARY:The Element of Fire Sound Bath
DESCRIPTION:Step into the warmth of transformation.This Fire Sound Bath invites you to awaken your inner spark\, the place of courage\, creativity\, and renewal that burns within us all.
URL:https://coterieholisticwellness.co.uk/event/the-element-of-fire-sound-bath/
LOCATION:Coterie Holistic Wellness\, The Castle\, Castle Lane.\, Moreton Valence\, Glos\, GL2 7NE\, United Kingdom
ORGANIZER;CN="coterieholisticwellness":MAILTO:info@coterieholisticwellness.co.uk
END:VEVENT
BEGIN:VEVENT
DTSTART;TZID=UTC:20251212T183000
DTEND;TZID=UTC:20251212T193000
DTSTAMP:20260421T020846
CREATED:20251022T213017Z
LAST-MODIFIED:20251105T134513Z
UID:4102-1765564200-1765567800@coterieholisticwellness.co.uk
SUMMARY:Winter Sound Bath Session
DESCRIPTION:Embrace the season of rest and reflection. This sound bath offers a space to release the year’s energy and nurture your body and mind through healing sound. \nBathe in the harmonic tones of singing bowls and gongs that invite deep relaxation\, warmth\, and renewal.
URL:https://coterieholisticwellness.co.uk/event/winter-sound-bath-session/
LOCATION:The Inner Place\, Ledbury\, Herefordshire\, HR8 1BN\, United Kingdom
ORGANIZER;CN="Coterie Holistic Wellness":MAILTO:info@coterieholisticwellness.co.uk
END:VEVENT
BEGIN:VEVENT
DTSTART;TZID=UTC:20251216T190000
DTEND;TZID=UTC:20251216T203000
DTSTAMP:20260421T020846
CREATED:20251028T214722Z
LAST-MODIFIED:20251028T214722Z
UID:4221-1765911600-1765917000@coterieholisticwellness.co.uk
SUMMARY:Merry Christmas Sound bath
DESCRIPTION:Celebrate the magic of Christmas and welcome the New Year with hope\, happiness\, and harmony in our Christmas inspired Sound bath
URL:https://coterieholisticwellness.co.uk/event/merry-christmas-sound-bath/
LOCATION:Coterie Holistic Wellness\, The Castle\, Castle Lane.\, Moreton Valence\, Glos\, GL2 7NE\, United Kingdom
ORGANIZER;CN="coterieholisticwellness":MAILTO:info@coterieholisticwellness.co.uk
END:VEVENT
BEGIN:VEVENT
DTSTART;TZID=UTC:20251219T183000
DTEND;TZID=UTC:20251219T193000
DTSTAMP:20260421T020846
CREATED:20251123T104248Z
LAST-MODIFIED:20251123T104248Z
UID:4350-1766169000-1766172600@coterieholisticwellness.co.uk
SUMMARY:Release & Rebuild
DESCRIPTION:A deep and cleansing sound immersion \n\n\ndesigned to let go of what no longer serves. \n\n\nAllowing you to step into the \n\n\nNew Year lighter\, clearer and renewed
URL:https://coterieholisticwellness.co.uk/event/release-rebuild/
LOCATION:The Nook Yoga Studio\, Dale House\, Bredon Road\,\, Tewkesbury\, Gloucestershire\, GL20 5BX\, United Kingdom
ORGANIZER;CN="Coterie Holistic Wellness":MAILTO:info@coterieholisticwellness.co.uk
END:VEVENT
BEGIN:VEVENT
DTSTART;TZID=UTC:20251221T183000
DTEND;TZID=UTC:20251221T193000
DTSTAMP:20260421T020846
CREATED:20251028T220042Z
LAST-MODIFIED:20251028T220042Z
UID:4225-1766341800-1766345400@coterieholisticwellness.co.uk
SUMMARY:Guided meditation & live sound journey
DESCRIPTION:join us to welcome & cherish the winter solstice and embrace the the dark stillness of the longest night of the year\, \n\n\n\nfocus will be on rest and renewal & a strengthened connection to nature
URL:https://coterieholisticwellness.co.uk/event/guided-meditation-live-sound-journey-2/
LOCATION:Coterie Holistic Wellness\, The Castle\, Castle Lane.\, Moreton Valence\, Glos\, GL2 7NE\, United Kingdom
ORGANIZER;CN="coterieholisticwellness":MAILTO:info@coterieholisticwellness.co.uk
END:VEVENT
END:VCALENDAR